BEGIN:VCALENDAR
VERSION:2.0
PRODID:spatie/icalendar-generator
DESCRIPTION:Veranstaltungen von Kreishandwerkerschaft Ostholstein
X-WR-CALDESC:Veranstaltungen von Kreishandwerkerschaft Ostholstein
REFRESH-INTERVAL;VALUE=DURATION:PT1440M
X-PUBLISHED-TTL:PT1440M
BEGIN:VTIMEZONE
TZID:Etc/GMT+0
BEGIN:STANDARD
DTSTART:20250216T000000Z
TZOFFSETFROM:+0000
TZOFFSETTO:+0000
END:STANDARD
END:VTIMEZONE
BEGIN:VTIMEZONE
TZID:UTC
BEGIN:STANDARD
DTSTART:20250730T033404Z
TZOFFSETFROM:+0000
TZOFFSETTO:+0000
END:STANDARD
END:VTIMEZONE
BEGIN:VEVENT
UID:144-133
DTSTAMP:20260426T033404Z
SUMMARY:Meisterstammtisch
LOCATION:wird noch bekannt gegeben
ORGANIZER;CN=kreiha:MAILTO:info@handwerk-oh.de
DTSTART;TZID=Etc/GMT+0:20251113T000000
DTEND;TZID=Etc/GMT+0:20251113T000000
X-ALT-DESC;FMTTYPE=TEXT/HTML:
CATEGORIES:Elektro Innung für den Kreis Plön
URL;VALUE=URI:https://handwerk-oh.de/mc-events/meisterstammtisch-12/
METHOD:PUBLISH
END:VEVENT
END:VCALENDAR